BEGIN:VCALENDAR
VERSION:2.0
PRODID:-//The Royal-tea Club - ECPv6.15.20//NONSGML v1.0//EN
CALSCALE:GREGORIAN
METHOD:PUBLISH
X-ORIGINAL-URL:https://theroyalteaclub.com
X-WR-CALDESC:Events for The Royal-tea Club
REFRESH-INTERVAL;VALUE=DURATION:PT1H
X-Robots-Tag:noindex
X-PUBLISHED-TTL:PT1H
BEGIN:VTIMEZONE
TZID:America/New_York
BEGIN:DAYLIGHT
TZOFFSETFROM:-0500
TZOFFSETTO:-0400
TZNAME:EDT
DTSTART:20250309T070000
END:DAYLIGHT
BEGIN:STANDARD
TZOFFSETFROM:-0400
TZOFFSETTO:-0500
TZNAME:EST
DTSTART:20251102T060000
END:STANDARD
BEGIN:DAYLIGHT
TZOFFSETFROM:-0500
TZOFFSETTO:-0400
TZNAME:EDT
DTSTART:20260308T070000
END:DAYLIGHT
BEGIN:STANDARD
TZOFFSETFROM:-0400
TZOFFSETTO:-0500
TZNAME:EST
DTSTART:20261101T060000
END:STANDARD
BEGIN:DAYLIGHT
TZOFFSETFROM:-0500
TZOFFSETTO:-0400
TZNAME:EDT
DTSTART:20270314T070000
END:DAYLIGHT
BEGIN:STANDARD
TZOFFSETFROM:-0400
TZOFFSETTO:-0500
TZNAME:EST
DTSTART:20271107T060000
END:STANDARD
END:VTIMEZONE
BEGIN:VEVENT
DTSTART;TZID=America/New_York:20260709T140000
DTEND;TZID=America/New_York:20260709T160000
DTSTAMP:20260424T132605
CREATED:20260413T170624Z
LAST-MODIFIED:20260413T170624Z
UID:2364-1783605600-1783612800@theroyalteaclub.com
SUMMARY:Kate Pearl Tearoom - Thurs.\, July 9
DESCRIPTION:Kate Pearl Tearoom in the Historic William Winchester House\, is an English-style tearoom that is named for the owner’s great-great-grandmother. “We see afternoon tea as a way to connect generations\, to honor traditions\, and to feel respite from the chaos of everyday life. A place to unwind\, to be pampered and to luxuriate in finery.” \nThe full afternoon tea includes: \n\nSoup or salad (chef choice)\,\nScones\,\nFresh fruit\,\nTea sandwiches and savories\,\nAssorted sweets\nSorbet\, and\nTea.\n\nWestminster is a lovely town to visit and shop. \nParking: The tearoom has a parking lot.\nMobility: For the July 9 tea\, seatings are in a room with one step down or up a flight of stairs; for the July 11\, no steps into one room\, one step down\, or up a flight of stairs. Please note your mobility needs when make a reservation (For example\, one step is fine\, but not upstairs OR I can do any of these seating arrangements).\nCost: $46\, club members; $51 guests/non-members\nReservation deadline: July 1 \nPlease include tea name and date in memo section of your check. \nTEA ETIQUETTE:\nPlease arrive at the tea room no earlier than 15 minutes before the time of the tea (or as noted in the tea description). This gives servers and the kitchen the chance to make the room as lovely and ready as possible. If you get to the tea more than 15 minutes before our scheduled seating\, go shopping or walking or bring a book\, knitting\, or any other ways to pass the time in your car. \nRESERVATIONS
URL:https://theroyalteaclub.com/event/kate-pearl-tearoom-thurs-july-9/
LOCATION:Kate Pearl Tea Room\, 111 Stone Ave.\, Westminster\, MD\, 21157
CATEGORIES:Tea Events
ATTACH;FMTTYPE=image/jpeg:https://theroyalteaclub.com/wp-content/uploads/2022/07/Kate-Pearl-Tea-Room.jpg
END:VEVENT
BEGIN:VEVENT
DTSTART;TZID=America/New_York:20260711T140000
DTEND;TZID=America/New_York:20260711T160000
DTSTAMP:20260424T132605
CREATED:20260413T170609Z
LAST-MODIFIED:20260413T170609Z
UID:2365-1783778400-1783785600@theroyalteaclub.com
SUMMARY:Kate Pearl Tearoom - Sat.\, July 11
DESCRIPTION:Kate Pearl Tearoom in the Historic William Winchester House\, is an English-style tearoom that is named for the owner’s great-great-grandmother. “We see afternoon tea as a way to connect generations\, to honor traditions\, and to feel respite from the chaos of everyday life. A place to unwind\, to be pampered and to luxuriate in finery.” \nThe full afternoon tea includes: \n\nSoup or salad (chef choice)\,\nScones\,\nFresh fruit\,\nTea sandwiches and savories\,\nAssorted sweets\nSorbet\, and\nTea.\n\nWestminster is a lovely town to visit and shop. \nParking: The tearoom has a parking lot.\nMobility: For the July 9 tea\, seatings are in a room with one step down or up a flight of stairs; for the July 11\, no steps into one room\, one step down\, or up a flight of stairs. Please note your mobility needs when make a reservation (For example\, one step is fine\, but not upstairs OR I can do any of these seating arrangements).\nCost: $46\, club members; $51 guests/non-members\nReservation deadline: July 1 \nPlease include tea name and date in memo section of your check. \nTEA ETIQUETTE:\nPlease arrive at the tea room no earlier than 15 minutes before the time of the tea (or as noted in the tea description). This gives servers and the kitchen the chance to make the room as lovely and ready as possible. If you get to the tea more than 15 minutes before our scheduled seating\, go shopping or walking or bring a book\, knitting\, or any other ways to pass the time in your car. \nRESERVATIONS
URL:https://theroyalteaclub.com/event/kate-pearl-tearoom-sat-july-11/
LOCATION:PA
CATEGORIES:Tea Events
ATTACH;FMTTYPE=image/jpeg:https://theroyalteaclub.com/wp-content/uploads/2022/07/Kate-Pearl-Tea-Room.jpg
END:VEVENT
END:VCALENDAR