BEGIN:VCALENDAR
VERSION:2.0
PRODID:-//The Royal-tea Club - ECPv6.15.20//NONSGML v1.0//EN
CALSCALE:GREGORIAN
METHOD:PUBLISH
X-WR-CALNAME:The Royal-tea Club
X-ORIGINAL-URL:https://theroyalteaclub.com
X-WR-CALDESC:Events for The Royal-tea Club
REFRESH-INTERVAL;VALUE=DURATION:PT1H
X-Robots-Tag:noindex
X-PUBLISHED-TTL:PT1H
BEGIN:VTIMEZONE
TZID:America/New_York
BEGIN:DAYLIGHT
TZOFFSETFROM:-0500
TZOFFSETTO:-0400
TZNAME:EDT
DTSTART:20230312T070000
END:DAYLIGHT
BEGIN:STANDARD
TZOFFSETFROM:-0400
TZOFFSETTO:-0500
TZNAME:EST
DTSTART:20231105T060000
END:STANDARD
BEGIN:DAYLIGHT
TZOFFSETFROM:-0500
TZOFFSETTO:-0400
TZNAME:EDT
DTSTART:20240310T070000
END:DAYLIGHT
BEGIN:STANDARD
TZOFFSETFROM:-0400
TZOFFSETTO:-0500
TZNAME:EST
DTSTART:20241103T060000
END:STANDARD
BEGIN:DAYLIGHT
TZOFFSETFROM:-0500
TZOFFSETTO:-0400
TZNAME:EDT
DTSTART:20250309T070000
END:DAYLIGHT
BEGIN:STANDARD
TZOFFSETFROM:-0400
TZOFFSETTO:-0500
TZNAME:EST
DTSTART:20251102T060000
END:STANDARD
END:VTIMEZONE
BEGIN:VEVENT
DTSTART;TZID=America/New_York:20240803T130000
DTEND;TZID=America/New_York:20240803T150000
DTSTAMP:20260423T084911
CREATED:20240405T200729Z
LAST-MODIFIED:20240405T200729Z
UID:1547-1722690000-1722697200@theroyalteaclub.com
SUMMARY:Blooming Hill Lavender Farm - Aug. 3
DESCRIPTION:The Club is returning to Blooming Hill in Virginia — which should be a shorter drive for our Virginia members. This farmette is owned by Cyndie and Peter Rinek with a garden of over 1\,000 lavender plants in nearly 100 different varieties\, along with a gift shop. \nThe menu for the tea: \n\nClassic chicken salad with grapes\, walnuts\, and cranberries\,\nOne savory lavender scone dressed with pepper jelly and Devon cream\,\nOne sweet lavender scone dressed with lemon curd and Devon cream\,\nOne petit four\,\nLavender-infused Blooming Hill ice cream with chocolate square\, and\nEndless pots of tea chosen by Blooming Hill.\n\nOur tea will be served outside\, rain or shine\, and the bathroom facilities are clean Port-a-Johns. \nMobility: Five steps onto the porch (with railing).\n*Cost: $45\, club members; $50\, guests/non-members\nReservation deadline: July 23 \n*Please include tea name in memo section of your check. \nRESERVATIONS
URL:https://theroyalteaclub.com/event/blooming-hill-lavender-farm-aug-3/
LOCATION:Blooming Hill Lavender Farm\, 19929 Telegraph Springs Rd.\, Purcelville\, VA\, 20132
CATEGORIES:Tea Events
ATTACH;FMTTYPE=image/jpeg:https://theroyalteaclub.com/wp-content/uploads/2024/04/Blooming-HIll.jpg
END:VEVENT
BEGIN:VEVENT
DTSTART;TZID=America/New_York:20240822T130000
DTEND;TZID=America/New_York:20240822T150000
DTSTAMP:20260423T084911
CREATED:20240405T200720Z
LAST-MODIFIED:20240405T200720Z
UID:1552-1724331600-1724338800@theroyalteaclub.com
SUMMARY:Sweet Remembrances Tearoom - Aug. 22
DESCRIPTION:Nancy Reppert\, owner of Sweet Remembrances\, and her sister\, Susanna Reppert Brill\, owner of Rosemary House next door\, have been long-time members of the Royal-tea Club. This is a favorite tearoom — some claim Nancy’s scones are the best ever. \nOur tea will include: \n\nSalad\,\nSix savories\,\nScones with jam and cream\,\nDessert\, and\nEndless pots of tea.\n\nEverything is beautifully prepared and served. Come\, relax\, and enjoy a delicious tea by Nancy. \nMobility: Three steps into the front of the tea room; parking is on the street with very limited parking to the rear of the building.\n*Cost: $45\, club members; $50\, guests/non-members\nReservation deadline: Aug. 12 \n*Please include tea name and date in memo section of your check. \nRESERVATIONS
URL:https://theroyalteaclub.com/event/sweet-remembrances-tearoom-aug-22/
LOCATION:Sweet Remembrances Tea Room\, 118 S. Market St.\, Mechanicsburg\, PA\, 17055\, United States
CATEGORIES:Tea Events
ATTACH;FMTTYPE=image/jpeg:https://theroyalteaclub.com/wp-content/uploads/2023/04/Sweet-Remembrances.jpg
END:VEVENT
BEGIN:VEVENT
DTSTART;TZID=America/New_York:20240824T130000
DTEND;TZID=America/New_York:20240824T150000
DTSTAMP:20260423T084911
CREATED:20240405T200709Z
LAST-MODIFIED:20240405T200709Z
UID:1554-1724504400-1724511600@theroyalteaclub.com
SUMMARY:Sweet Remembrances Tearoom - Aug. 24
DESCRIPTION:Nancy Reppert\, owner of Sweet Remembrances\, and her sister\, Susanna Reppert Brill\, owner of Rosemary House next door\, have been long-time members of the Royal-tea Club. This is a favorite tearoom — some claim Nancy’s scones are the best ever. \nOur tea will include: \n\nSalad\,\nSix savories\,\nScones with jam and cream\,\nDessert\, and\nEndless pots of tea.\n\nEverything is beautifully prepared and served. Come\, relax\, and enjoy a delicious tea by Nancy. \nMobility: Three steps into the front of the tea room; parking is on the street with very limited parking to the rear of the building.\n*Cost: $45\, club members; $50\, guests/non-members\nReservation deadline: Aug. 12 \n*Please include tea name and date in memo section of your check. \nRESERVATIONS
URL:https://theroyalteaclub.com/event/sweet-remembrances-tearoom-aug-24/
LOCATION:Sweet Remembrances Tea Room\, 118 S. Market St.\, Mechanicsburg\, PA\, 17055\, United States
CATEGORIES:Tea Events
ATTACH;FMTTYPE=image/jpeg:https://theroyalteaclub.com/wp-content/uploads/2023/04/Sweet-Remembrances.jpg
END:VEVENT
END:VCALENDAR