BEGIN:VCALENDAR
VERSION:2.0
PRODID:-//The Royal-tea Club - ECPv6.15.20//NONSGML v1.0//EN
CALSCALE:GREGORIAN
METHOD:PUBLISH
X-WR-CALNAME:The Royal-tea Club
X-ORIGINAL-URL:https://theroyalteaclub.com
X-WR-CALDESC:Events for The Royal-tea Club
REFRESH-INTERVAL;VALUE=DURATION:PT1H
X-Robots-Tag:noindex
X-PUBLISHED-TTL:PT1H
BEGIN:VTIMEZONE
TZID:America/New_York
BEGIN:DAYLIGHT
TZOFFSETFROM:-0500
TZOFFSETTO:-0400
TZNAME:EDT
DTSTART:20190310T070000
END:DAYLIGHT
BEGIN:STANDARD
TZOFFSETFROM:-0400
TZOFFSETTO:-0500
TZNAME:EST
DTSTART:20191103T060000
END:STANDARD
BEGIN:DAYLIGHT
TZOFFSETFROM:-0500
TZOFFSETTO:-0400
TZNAME:EDT
DTSTART:20200308T070000
END:DAYLIGHT
BEGIN:STANDARD
TZOFFSETFROM:-0400
TZOFFSETTO:-0500
TZNAME:EST
DTSTART:20201101T060000
END:STANDARD
BEGIN:DAYLIGHT
TZOFFSETFROM:-0500
TZOFFSETTO:-0400
TZNAME:EDT
DTSTART:20210314T070000
END:DAYLIGHT
BEGIN:STANDARD
TZOFFSETFROM:-0400
TZOFFSETTO:-0500
TZNAME:EST
DTSTART:20211107T060000
END:STANDARD
END:VTIMEZONE
BEGIN:VEVENT
DTSTART;TZID=America/New_York:20200418T140000
DTEND;TZID=America/New_York:20200418T160000
DTSTAMP:20260421T013711
CREATED:20210603T180708Z
LAST-MODIFIED:20210610T145110Z
UID:82-1587218400-1587225600@theroyalteaclub.com
SUMMARY:The Red Brick Tearoom
DESCRIPTION:COST– $30 for members\, $35 for guests\, inclusive. Maximum 40\, cut-off date—April 10\, 2020 \nWe visited this tearoom in 2017. It is tucked away on the main street of Red Lion. There is street parking with meters ($0.25 for 2 hours). Chef Dani and her staff make everything from scratch. There is a bakery in the tearoom with lots of fresh items. And of course a small gift shop area with tea-related items.
URL:https://theroyalteaclub.com/event/the-red-brick-tearoom/
LOCATION:The Red Brick Tearoom\, 55 North Main Street\, Red Lion\, PA\, 17356\, United States
CATEGORIES:Tea Events
ATTACH;FMTTYPE=image/jpeg:https://theroyalteaclub.com/wp-content/uploads/2021/06/redbrick.jpg
END:VEVENT
BEGIN:VEVENT
DTSTART;TZID=America/New_York:20200404T120000
DTEND;TZID=America/New_York:20200404T140000
DTSTAMP:20260421T013711
CREATED:20210603T175707Z
LAST-MODIFIED:20210610T145110Z
UID:79-1586001600-1586008800@theroyalteaclub.com
SUMMARY:Loxley's Restaurant Heritage Hotel
DESCRIPTION:COST– $34 for members\, $39 for guests\, inclusive. Maximum – 48\, cut-off date—March 21\, 2020 \nThe restaurant was designed with the feeling of life in the trees of the forest retreat of Robin Hood’s band of merry men (Robin of Loxley). The dark stain of the restaurant gives a patina reminiscent of a medieval building. We will gather at 12 noon and tea service will begin at 12:15 pm. Come join us for a relaxing afternoon in Robin Hood’s retreat.
URL:https://theroyalteaclub.com/event/loxleys-restaurant-heritage-hotel/
LOCATION:Loxley’s Restaurant Heritage Hotel\, 500 Centerville Road\, Lancaster\, PA\, 17601\, United States
CATEGORIES:Tea Events
ATTACH;FMTTYPE=image/jpeg:https://theroyalteaclub.com/wp-content/uploads/2021/06/loxley.jpg
END:VEVENT
END:VCALENDAR