BEGIN:VCALENDAR
VERSION:2.0
PRODID:-//The Royal-tea Club - ECPv6.15.20//NONSGML v1.0//EN
CALSCALE:GREGORIAN
METHOD:PUBLISH
X-ORIGINAL-URL:https://theroyalteaclub.com
X-WR-CALDESC:Events for The Royal-tea Club
REFRESH-INTERVAL;VALUE=DURATION:PT1H
X-Robots-Tag:noindex
X-PUBLISHED-TTL:PT1H
BEGIN:VTIMEZONE
TZID:America/New_York
BEGIN:DAYLIGHT
TZOFFSETFROM:-0500
TZOFFSETTO:-0400
TZNAME:EDT
DTSTART:20250309T070000
END:DAYLIGHT
BEGIN:STANDARD
TZOFFSETFROM:-0400
TZOFFSETTO:-0500
TZNAME:EST
DTSTART:20251102T060000
END:STANDARD
BEGIN:DAYLIGHT
TZOFFSETFROM:-0500
TZOFFSETTO:-0400
TZNAME:EDT
DTSTART:20260308T070000
END:DAYLIGHT
BEGIN:STANDARD
TZOFFSETFROM:-0400
TZOFFSETTO:-0500
TZNAME:EST
DTSTART:20261101T060000
END:STANDARD
BEGIN:DAYLIGHT
TZOFFSETFROM:-0500
TZOFFSETTO:-0400
TZNAME:EDT
DTSTART:20270314T070000
END:DAYLIGHT
BEGIN:STANDARD
TZOFFSETFROM:-0400
TZOFFSETTO:-0500
TZNAME:EST
DTSTART:20271107T060000
END:STANDARD
END:VTIMEZONE
BEGIN:VEVENT
DTSTART;TZID=America/New_York:20260627T133000
DTEND;TZID=America/New_York:20260627T153000
DTSTAMP:20260424T132539
CREATED:20260413T170647Z
LAST-MODIFIED:20260413T170647Z
UID:2361-1782567000-1782574200@theroyalteaclub.com
SUMMARY:TranquilaTEA - Sat.\, June 27
DESCRIPTION:This tearoom was founded in 2004 by the mother/daughter duo\, Laura Watkins and Nancy Browning. Located in the historic town of Waynesboro\, this 1800s era pink building with green shutters and awning also has a gift shop with books and tea accessories. Our Queen’s tea includes: \n\nSoup or salad (chef’s choice)\,\nScone\,\nTea sandwiches\,\nDessert\, and\nEndless pot of tea\n\nJune is a lovely month for a ride to this charming town for tea. \nParking: On-street metered parking; a free parking lot is one block behind the tearoom at 25 N. Potomac St.\, behind Trinity apartments\, off Schier’s Way.\nMobility: There are five steps up to the tearoom\, and one step up to bathroom and second tearoom. area.\nCost: $46.50\, club members; $51.50\, guests/non-members\nReservation deadline: June 16 \n*There is a seating prior to our tea and the staff need time to reset the tables and prepare for us. There are lovely shops along the street for you to visit if you arrive early or bring a book to read or a project to knit. \nPlease include tea name and date in memo section of your check. \nRESERVATIONS
URL:https://theroyalteaclub.com/event/tranquilatea-sat-june-27/
LOCATION:TranquilaTEA\, 117 W. Main St.\, Waynesboro\, PA\, 17268
CATEGORIES:Tea Events
ATTACH;FMTTYPE=image/jpeg:https://theroyalteaclub.com/wp-content/uploads/2024/02/TranquilaTEA.jpg
END:VEVENT
END:VCALENDAR