BEGIN:VCALENDAR
VERSION:2.0
PRODID:-//The Royal-tea Club - ECPv6.15.20//NONSGML v1.0//EN
CALSCALE:GREGORIAN
METHOD:PUBLISH
X-ORIGINAL-URL:https://theroyalteaclub.com
X-WR-CALDESC:Events for The Royal-tea Club
REFRESH-INTERVAL;VALUE=DURATION:PT1H
X-Robots-Tag:noindex
X-PUBLISHED-TTL:PT1H
BEGIN:VTIMEZONE
TZID:America/New_York
BEGIN:DAYLIGHT
TZOFFSETFROM:-0500
TZOFFSETTO:-0400
TZNAME:EDT
DTSTART:20250309T070000
END:DAYLIGHT
BEGIN:STANDARD
TZOFFSETFROM:-0400
TZOFFSETTO:-0500
TZNAME:EST
DTSTART:20251102T060000
END:STANDARD
BEGIN:DAYLIGHT
TZOFFSETFROM:-0500
TZOFFSETTO:-0400
TZNAME:EDT
DTSTART:20260308T070000
END:DAYLIGHT
BEGIN:STANDARD
TZOFFSETFROM:-0400
TZOFFSETTO:-0500
TZNAME:EST
DTSTART:20261101T060000
END:STANDARD
BEGIN:DAYLIGHT
TZOFFSETFROM:-0500
TZOFFSETTO:-0400
TZNAME:EDT
DTSTART:20270314T070000
END:DAYLIGHT
BEGIN:STANDARD
TZOFFSETFROM:-0400
TZOFFSETTO:-0500
TZNAME:EST
DTSTART:20271107T060000
END:STANDARD
END:VTIMEZONE
BEGIN:VEVENT
DTSTART;TZID=America/New_York:20260620T130000
DTEND;TZID=America/New_York:20260620T150000
DTSTAMP:20260424T132523
CREATED:20260408T201405Z
LAST-MODIFIED:20260413T170725Z
UID:2351-1781960400-1781967600@theroyalteaclub.com
SUMMARY:East Berlin Historical Preservation Society - Sat.\, June 20
DESCRIPTION:The tea in East Berlin last year was a hit with requests to repeat the event. The menu includes: \n\nSoup\,\nSalad\,\nTwo types of scones\,\nSavories\,\nSweets\, and\nPots of tea.\n\nWe are sure the ladies of the Historical Society will prepare another delicious tea for club members. What a wonderful start to the summer.. \nParking: On-street parking with very limited parking to the rear of the hall.\nMobility: There are three steps onto the front porch; no steps into the hall from the rear. house from the left side. There is one step into the bathroom.\nCost: $45\, club members; $50\, guests/non-members\nReservation deadline: May 28 \nPlease include tea name and date in memo section of your check. \nRESERVATIONS \nTEA ETIQUETTE:\nPlease arrive at the tea room no earlier than 15 minutes before the time of the tea (or as noted in the tea description). This gives servers and the kitchen the chance to make the room as lovely and ready as possible. If you get to the tea more than 15 minutes before our scheduled seating\, go shopping or walking or bring a book\, knitting\, or any other ways to pass the time in your car.
URL:https://theroyalteaclub.com/event/east-berlin-historical-preservation-society-june-20/
LOCATION:East Berlin Historical Society\, Red Men's Hall\, 332 W. King St.\, East Berlin\, PA\, 17316
CATEGORIES:Tea Events
ATTACH;FMTTYPE=image/jpeg:https://theroyalteaclub.com/wp-content/uploads/2025/05/East-Berlin.jpg
END:VEVENT
END:VCALENDAR