BEGIN:VCALENDAR
VERSION:2.0
PRODID:-//The Royal-tea Club - ECPv6.15.20//NONSGML v1.0//EN
CALSCALE:GREGORIAN
METHOD:PUBLISH
X-ORIGINAL-URL:https://theroyalteaclub.com
X-WR-CALDESC:Events for The Royal-tea Club
REFRESH-INTERVAL;VALUE=DURATION:PT1H
X-Robots-Tag:noindex
X-PUBLISHED-TTL:PT1H
BEGIN:VTIMEZONE
TZID:America/New_York
BEGIN:DAYLIGHT
TZOFFSETFROM:-0500
TZOFFSETTO:-0400
TZNAME:EDT
DTSTART:20240310T070000
END:DAYLIGHT
BEGIN:STANDARD
TZOFFSETFROM:-0400
TZOFFSETTO:-0500
TZNAME:EST
DTSTART:20241103T060000
END:STANDARD
BEGIN:DAYLIGHT
TZOFFSETFROM:-0500
TZOFFSETTO:-0400
TZNAME:EDT
DTSTART:20250309T070000
END:DAYLIGHT
BEGIN:STANDARD
TZOFFSETFROM:-0400
TZOFFSETTO:-0500
TZNAME:EST
DTSTART:20251102T060000
END:STANDARD
BEGIN:DAYLIGHT
TZOFFSETFROM:-0500
TZOFFSETTO:-0400
TZNAME:EDT
DTSTART:20260308T070000
END:DAYLIGHT
BEGIN:STANDARD
TZOFFSETFROM:-0400
TZOFFSETTO:-0500
TZNAME:EST
DTSTART:20261101T060000
END:STANDARD
END:VTIMEZONE
BEGIN:VEVENT
DTSTART;TZID=America/New_York:20251025T130000
DTEND;TZID=America/New_York:20251025T150000
DTSTAMP:20260420T162940
CREATED:20250724T213818Z
LAST-MODIFIED:20251006T195613Z
UID:2075-1761397200-1761404400@theroyalteaclub.com
SUMMARY:Bella's Tea Room\, Oct. 25
DESCRIPTION:We visited this tearoom before 2020. Several members visited there more recently and highly recommended the tea. It is located in Havre de Grace by the water. Come visit the tearoom this fall and enjoy a drive during leaf season. \nMobility: There are no steps. Parking is on the street\, and there is a parking lot in the back but requires some walking.\nCost: $42\, club members; $47\, guests/non-members\nReservation deadline: Oct. 12\nPlease include tea name and date in memo section of your check. \nTEA ETIQUETTE:\nPlease arrive at the tea room no earlier than 15 minutes before the time of the tea (or as noted in the tea description). This gives servers and the kitchen the chance to make the room as lovely and ready as possible. If you get to the tea more than 15 minutes before our scheduled seating\, go shopping or walking or bring a book\, knitting\, or any other ways to pass the time in your car. \nRegister for an Event
URL:https://theroyalteaclub.com/event/bellas-tea-room-oct-25/
LOCATION:Bella’s Tea Room\, 421 St. John St.\, Havre de Grace\, MD\, 21078
CATEGORIES:Tea Events
ATTACH;FMTTYPE=image/jpeg:https://theroyalteaclub.com/wp-content/uploads/2025/07/Bellas-Tea-Room.jpg
END:VEVENT
END:VCALENDAR