BEGIN:VCALENDAR
VERSION:2.0
PRODID:-//The Royal-tea Club - ECPv6.15.20//NONSGML v1.0//EN
CALSCALE:GREGORIAN
METHOD:PUBLISH
X-ORIGINAL-URL:https://theroyalteaclub.com
X-WR-CALDESC:Events for The Royal-tea Club
REFRESH-INTERVAL;VALUE=DURATION:PT1H
X-Robots-Tag:noindex
X-PUBLISHED-TTL:PT1H
BEGIN:VTIMEZONE
TZID:America/New_York
BEGIN:DAYLIGHT
TZOFFSETFROM:-0500
TZOFFSETTO:-0400
TZNAME:EDT
DTSTART:20240310T070000
END:DAYLIGHT
BEGIN:STANDARD
TZOFFSETFROM:-0400
TZOFFSETTO:-0500
TZNAME:EST
DTSTART:20241103T060000
END:STANDARD
BEGIN:DAYLIGHT
TZOFFSETFROM:-0500
TZOFFSETTO:-0400
TZNAME:EDT
DTSTART:20250309T070000
END:DAYLIGHT
BEGIN:STANDARD
TZOFFSETFROM:-0400
TZOFFSETTO:-0500
TZNAME:EST
DTSTART:20251102T060000
END:STANDARD
BEGIN:DAYLIGHT
TZOFFSETFROM:-0500
TZOFFSETTO:-0400
TZNAME:EDT
DTSTART:20260308T070000
END:DAYLIGHT
BEGIN:STANDARD
TZOFFSETFROM:-0400
TZOFFSETTO:-0500
TZNAME:EST
DTSTART:20261101T060000
END:STANDARD
END:VTIMEZONE
BEGIN:VEVENT
DTSTART;TZID=America/New_York:20251012T130000
DTEND;TZID=America/New_York:20251012T150000
DTSTAMP:20260420T103119
CREATED:20250724T213840Z
LAST-MODIFIED:20250724T213840Z
UID:2068-1760274000-1760281200@theroyalteaclub.com
SUMMARY:The Fulton Steamboat Inn\, Oct. 12
DESCRIPTION:This is a new venture for the facility. The menu includes: \n\nStarter\, soup or fruit;\nSavories\, pineapple chicken salad sandwich\, ham and cheese puff pastry\, brie and jam crostini\, and antipasto skewer;\nSweets\, chocolate mousse cup\, apple rose puff\, and raspberry tea cake; and\nChoice of teas.\n\nThis inn is near the outlets on Route 30 so come early or stay late to shop. \nMobility: There are no steps. \nCost: $48\, club members; $53\, guests/non-members \nReservation deadline: Sept. 30\nPlease include tea name and date in memo section of your check.\n \nTEA ETIQUETTE:\nPlease arrive at the tea room no earlier than 15 minutes before the time of the tea (or as noted in the tea description). This gives servers and the kitchen the chance to make the room as lovely and ready as possible. If you get to the tea more than 15 minutes before our scheduled seating\, go shopping or walking or bring a book\, knitting\, or any other ways to pass the time in your car.\n \nRegister for an Event \n \n  \nRESERVATIONS
URL:https://theroyalteaclub.com/event/the-fulton-steamboat-inn-oct-12/
LOCATION:The Fulton Steamboat Inn\, 1 Hartman Bridge Road\, Lancaster\, PA\, 17602
CATEGORIES:Tea Events
ATTACH;FMTTYPE=image/jpeg:https://theroyalteaclub.com/wp-content/uploads/2025/07/Fulton-Steamboat.jpg
END:VEVENT
END:VCALENDAR