BEGIN:VCALENDAR
VERSION:2.0
PRODID:-//The Royal-tea Club - ECPv6.15.20//NONSGML v1.0//EN
CALSCALE:GREGORIAN
METHOD:PUBLISH
X-ORIGINAL-URL:https://theroyalteaclub.com
X-WR-CALDESC:Events for The Royal-tea Club
REFRESH-INTERVAL;VALUE=DURATION:PT1H
X-Robots-Tag:noindex
X-PUBLISHED-TTL:PT1H
BEGIN:VTIMEZONE
TZID:America/New_York
BEGIN:DAYLIGHT
TZOFFSETFROM:-0500
TZOFFSETTO:-0400
TZNAME:EDT
DTSTART:20230312T070000
END:DAYLIGHT
BEGIN:STANDARD
TZOFFSETFROM:-0400
TZOFFSETTO:-0500
TZNAME:EST
DTSTART:20231105T060000
END:STANDARD
BEGIN:DAYLIGHT
TZOFFSETFROM:-0500
TZOFFSETTO:-0400
TZNAME:EDT
DTSTART:20240310T070000
END:DAYLIGHT
BEGIN:STANDARD
TZOFFSETFROM:-0400
TZOFFSETTO:-0500
TZNAME:EST
DTSTART:20241103T060000
END:STANDARD
BEGIN:DAYLIGHT
TZOFFSETFROM:-0500
TZOFFSETTO:-0400
TZNAME:EDT
DTSTART:20250309T070000
END:DAYLIGHT
BEGIN:STANDARD
TZOFFSETFROM:-0400
TZOFFSETTO:-0500
TZNAME:EST
DTSTART:20251102T060000
END:STANDARD
END:VTIMEZONE
BEGIN:VEVENT
DTSTART;TZID=America/New_York:20241012T130000
DTEND;TZID=America/New_York:20241012T150000
DTSTAMP:20260421T071520
CREATED:20240716T201703Z
LAST-MODIFIED:20240716T201703Z
UID:1713-1728738000-1728745200@theroyalteaclub.com
SUMMARY:The Village Teahouse - Oct. 12
DESCRIPTION:This tearoom is a two-hour drive from York in the town of West Point\, Pa. (not New York).\nOur menu will include \n\nQuiche\nSalad\,\nScone\,\nSandwiches\, and\nSweets.\n\nThe Mid-Atlantic Tea Business Association had tea here and there is a review on Sweet Remembrance’s blog. It should be a lovely October drive to visit the tearoom. \nMobility: There is a ramp into the tearoom and it has accessible bathrooms.\n*Cost: $49\, club members; $54\, guests/non-members\nReservation deadline: Oct. 1 \n*Please include tea name in memo section of your check. \nRESERVATIONS
URL:https://theroyalteaclub.com/event/the-village-teahouse-oct-12/
LOCATION:The Village Teahouse\, 1919 West Point Pike\, West Point\, PA\, 19486
CATEGORIES:Tea Events
ATTACH;FMTTYPE=image/jpeg:https://theroyalteaclub.com/wp-content/uploads/2024/07/Village-Teahouse.jpg
END:VEVENT
END:VCALENDAR